BEGIN:VCALENDAR
VERSION:2.0
PRODID:-//PYVOBJECT//NONSGML Version 1//EN
BEGIN:VEVENT
UID:26342:4396
DTSTART:20161124T000000
DTEND:20161230T000000
DESCRIPTION:Unsere kommenden Events unter www.sam-s.at/events.html
DTSTAMP:20260420T165206Z
SUMMARY:Aktuelle Info
END:VEVENT
END:VCALENDAR
